BEGIN:VCALENDAR
VERSION:2.0
PRODID:-//Yellow Rose Steak &amp; Chop House - ECPv6.15.20//NONSGML v1.0//EN
CALSCALE:GREGORIAN
METHOD:PUBLISH
X-WR-CALNAME:Yellow Rose Steak &amp; Chop House
X-ORIGINAL-URL:https://yellowrosesteakhouse.com
X-WR-CALDESC:Events for Yellow Rose Steak &amp; Chop House
REFRESH-INTERVAL;VALUE=DURATION:PT1H
X-Robots-Tag:noindex
X-PUBLISHED-TTL:PT1H
BEGIN:VTIMEZONE
TZID:America/Chicago
BEGIN:DAYLIGHT
TZOFFSETFROM:-0600
TZOFFSETTO:-0500
TZNAME:CDT
DTSTART:20160313T080000
END:DAYLIGHT
BEGIN:STANDARD
TZOFFSETFROM:-0500
TZOFFSETTO:-0600
TZNAME:CST
DTSTART:20161106T070000
END:STANDARD
BEGIN:DAYLIGHT
TZOFFSETFROM:-0600
TZOFFSETTO:-0500
TZNAME:CDT
DTSTART:20170312T080000
END:DAYLIGHT
BEGIN:STANDARD
TZOFFSETFROM:-0500
TZOFFSETTO:-0600
TZNAME:CST
DTSTART:20171105T070000
END:STANDARD
BEGIN:DAYLIGHT
TZOFFSETFROM:-0600
TZOFFSETTO:-0500
TZNAME:CDT
DTSTART:20180311T080000
END:DAYLIGHT
BEGIN:STANDARD
TZOFFSETFROM:-0500
TZOFFSETTO:-0600
TZNAME:CST
DTSTART:20181104T070000
END:STANDARD
END:VTIMEZONE
BEGIN:VEVENT
DTSTART;TZID=America/Chicago:20171220T190000
DTEND;TZID=America/Chicago:20171220T200000
DTSTAMP:20260423T055546
CREATED:20170127T174242Z
LAST-MODIFIED:20171212T140948Z
UID:8200-1513796400-1513800000@yellowrosesteakhouse.com
SUMMARY:Whiskey Wednesday Club
DESCRIPTION:This event is expected to be a lower attendance event. \nVince of Sazerac/Buffalo Trace has agreed to do a tasting of their whiskeys and discuss their other products\, including allocation only and rare whiskeys. \n\n\nTaste some Buffalo Trace Products\n\nBuffalo Trace\nWeller Special Reserve\nColonel E.H. Taylor\nDiscuss other Buffalo Trace products like Pappy Van Winkle and Antique Collection\n\n\n\n 
URL:https://yellowrosesteakhouse.com/event/whiskey-wednesday-club-12-17/
LOCATION:Yellow Rose Private Room\, 890 Parker Sq\, Flower Mound\, TX\, 75028\, United States
CATEGORIES:whiskey wednesday club,wwc
ATTACH;FMTTYPE=image/png:https://yellowrosesteakhouse.com/wp-content/uploads/2016/09/WWC-Word-Logo-temp.png
ORGANIZER;CN="Yellow Rose Events":MAILTO:events@yellowrosesteakhouse.com
END:VEVENT
BEGIN:VEVENT
DTSTART;TZID=America/Chicago:20171115T180000
DTEND;TZID=America/Chicago:20171115T200000
DTSTAMP:20260423T055546
CREATED:20170127T174242Z
LAST-MODIFIED:20170922T145148Z
UID:8198-1510768800-1510776000@yellowrosesteakhouse.com
SUMMARY:Whiskey Wednesday Club
DESCRIPTION:You asked for it! So we’re working to deliver! \nThe current plan is for this to be a cocktail mixing & tasting. \nThis one should be all Danny\, all the time.
URL:https://yellowrosesteakhouse.com/event/whiskey-wednesday-club-11-17/
LOCATION:Yellow Rose Private Room\, 890 Parker Sq\, Flower Mound\, TX\, 75028\, United States
CATEGORIES:whiskey wednesday club,wwc
ATTACH;FMTTYPE=image/png:https://yellowrosesteakhouse.com/wp-content/uploads/2016/09/WWC-Word-Logo-temp.png
ORGANIZER;CN="Yellow Rose Events":MAILTO:events@yellowrosesteakhouse.com
END:VEVENT
BEGIN:VEVENT
DTSTART;TZID=America/Chicago:20171109T183000
DTEND;TZID=America/Chicago:20171109T200000
DTSTAMP:20260423T055546
CREATED:20171025T194844Z
LAST-MODIFIED:20180508T144556Z
UID:8294-1510252200-1510257600@yellowrosesteakhouse.com
SUMMARY:Beer & Donuts
DESCRIPTION:Beer & Donuts coming to Flower Mound! \nJoin us for a fun event in collaboration with Deep Ellum Brewing Company and Sara Donuts! \nFour gourmet donuts paired with 4 excellent brews. $30 per person\, space is limited. \nSave the date for Thursday\, November 9th\, 2017\, 6.30 pm. \nPlease purchase your tickets in store or by calling (972) 899-9820. \nSpace is limited. \nMust purchase tickets in advance.
URL:https://yellowrosesteakhouse.com/event/beer-donuts/
LOCATION:Yellow Rose Steak & Chop House\, 890 Parker Sq\, Flower Mound\, TX\, 75028\, United States
CATEGORIES:Set Menu Events
ATTACH;FMTTYPE=image/jpeg:https://yellowrosesteakhouse.com/wp-content/uploads/2017/10/beer-and-donuts.jpg
ORGANIZER;CN="Yellow Rose Events":MAILTO:events@yellowrosesteakhouse.com
END:VEVENT
BEGIN:VEVENT
DTSTART;TZID=America/Chicago:20171018T180000
DTEND;TZID=America/Chicago:20171018T200000
DTSTAMP:20260423T055546
CREATED:20170127T174242Z
LAST-MODIFIED:20170926T143037Z
UID:7792-1508349600-1508356800@yellowrosesteakhouse.com
SUMMARY:Whiskey Wednesday Club
DESCRIPTION:You asked for it! So we’re working to deliver! \nThe current plan is for this to be a Japanese Whisky Tasting. \nIncluding: \n\nSuntori Toki\nHibiki Harmony\nNikka Coffey Grain\nYamazaki Single Malt 12yr
URL:https://yellowrosesteakhouse.com/event/whiskey-wednesday-club-10-2017/
LOCATION:Yellow Rose Private Room\, 890 Parker Sq\, Flower Mound\, TX\, 75028\, United States
CATEGORIES:whiskey wednesday club,wwc
ATTACH;FMTTYPE=image/png:https://yellowrosesteakhouse.com/wp-content/uploads/2016/09/WWC-Word-Logo-temp.png
ORGANIZER;CN="Yellow Rose Events":MAILTO:events@yellowrosesteakhouse.com
END:VEVENT
BEGIN:VEVENT
DTSTART;TZID=America/Chicago:20170926T180000
DTEND;TZID=America/Chicago:20170926T193000
DTSTAMP:20260423T055546
CREATED:20170807T154437Z
LAST-MODIFIED:20170922T155743Z
UID:8205-1506448800-1506454200@yellowrosesteakhouse.com
SUMMARY:California Wine Tasting
DESCRIPTION:Join us on Tuesday\, September 26th\, at 6pm in our Private Room for another fun night as we explorer some wines from California! It is California Wine Month after all! $45 per person\, tax and gratuity not included. Comes with a taste of 4 Californian wines\, and dinner plate! \nTasting portfolio: \n\nSimi Cabernet Sauvingnon\, Alexander Valley\, Sonoma County\nFranciscan Chardonnay\, Napa Valley\n7 Moons\, Red Blend\nCooper & Thief\, Red Blend\, Aged 3 months in bourbon whiskey barrels to 17%ABV\n\nReservations required. Limited seating available. First come first serve if not paid in advance. $45 per person not including tax and gratuity.\nCall (972) 899-9820 or make your reservation below. \nAnd who are you going to bring with you this time?
URL:https://yellowrosesteakhouse.com/event/california-wine-tasting-9-2017/
LOCATION:Yellow Rose Private Room\, 890 Parker Sq\, Flower Mound\, TX\, 75028\, United States
CATEGORIES:Wine Dinner,Wine Tasting Event
ATTACH;FMTTYPE=image/jpeg:https://yellowrosesteakhouse.com/wp-content/uploads/2017/08/September-2017-CaliforniaConstellation.jpg
ORGANIZER;CN="Yellow Rose Events":MAILTO:events@yellowrosesteakhouse.com
END:VEVENT
BEGIN:VEVENT
DTSTART;TZID=America/Chicago:20170920T180000
DTEND;TZID=America/Chicago:20170920T200000
DTSTAMP:20260423T055546
CREATED:20170127T174242Z
LAST-MODIFIED:20170922T152334Z
UID:7796-1505930400-1505937600@yellowrosesteakhouse.com
SUMMARY:Whiskey Wednesday Club
DESCRIPTION:We’ve been talking to representatives at the Yellow Rose Distilling in Houston. \nThey have agreed to stop in for our September tasting as they will be in Flower Mound anyway supporting a charity event.
URL:https://yellowrosesteakhouse.com/event/whiskey-wednesday-club-9-17/
LOCATION:Yellow Rose Private Room\, 890 Parker Sq\, Flower Mound\, TX\, 75028\, United States
CATEGORIES:whiskey wednesday club,wwc
ATTACH;FMTTYPE=image/png:https://yellowrosesteakhouse.com/wp-content/uploads/2016/09/WWC-Word-Logo-temp.png
ORGANIZER;CN="Yellow Rose Events":MAILTO:events@yellowrosesteakhouse.com
END:VEVENT
BEGIN:VEVENT
DTSTART;TZID=America/Chicago:20170829T183000
DTEND;TZID=America/Chicago:20170829T203000
DTSTAMP:20260423T055546
CREATED:20170807T154437Z
LAST-MODIFIED:20170807T154654Z
UID:8048-1504031400-1504038600@yellowrosesteakhouse.com
SUMMARY:An Italian Wine Tasting
DESCRIPTION:We’re happy to announce our next wine tasting event on Tuesday\, August 29th\, at 6.30 pm! Join us for a great night while tasting some delicious Italian wines\, from one of our favorite boutique distributors\, accompanied by a small snack: \n\nMontAsolo\, Pinot Grigio\nPoggio Alla Luna\, Chianti\nMartin Ulisse\, Montepulciano d’Abruzzo\nFranco Serra\, Barolo\n\nReservations required. Limited seating available. First come first serve if not paid in advance. $45 per person not including tax and gratuity.\nCall (972) 899-9820 or make your reservation below.
URL:https://yellowrosesteakhouse.com/event/an-italian-wine-tasting/
LOCATION:Yellow Rose Private Room\, 890 Parker Sq\, Flower Mound\, TX\, 75028\, United States
CATEGORIES:Wine Dinner,Wine Tasting Event
ATTACH;FMTTYPE=image/jpeg:https://yellowrosesteakhouse.com/wp-content/uploads/2017/08/Serendipity-Italian-Tasting.jpg
ORGANIZER;CN="Yellow Rose Events":MAILTO:events@yellowrosesteakhouse.com
END:VEVENT
BEGIN:VEVENT
DTSTART;TZID=America/Chicago:20170823T180000
DTEND;TZID=America/Chicago:20170823T200000
DTSTAMP:20260423T055546
CREATED:20170127T174242Z
LAST-MODIFIED:20170820T025558Z
UID:7669-1503511200-1503518400@yellowrosesteakhouse.com
SUMMARY:Whiskey Wednesday Club
DESCRIPTION:Event moved to August 23rd. Due to DFW Restaurant Week and other events\, presenters will not be able to make the event. \nOn the agenda is an announcement to the WWC who will have the first opportunity to sign up for a special private event for the group. It will be exclusive and will require reservations and on a list to attend.\nStay tuned! \nAugust Canadian Whiskeys
URL:https://yellowrosesteakhouse.com/event/whiskey-wednesday-club-8-2/
LOCATION:Yellow Rose Private Room\, 890 Parker Sq\, Flower Mound\, TX\, 75028\, United States
CATEGORIES:whiskey wednesday club,wwc
ATTACH;FMTTYPE=image/png:https://yellowrosesteakhouse.com/wp-content/uploads/2016/09/WWC-Word-Logo-temp.png
ORGANIZER;CN="Yellow Rose Events":MAILTO:events@yellowrosesteakhouse.com
END:VEVENT
BEGIN:VEVENT
DTSTART;TZID=America/Chicago:20170730T110000
DTEND;TZID=America/Chicago:20170730T170000
DTSTAMP:20260423T055546
CREATED:20170725T154033Z
LAST-MODIFIED:20170725T154033Z
UID:7978-1501412400-1501434000@yellowrosesteakhouse.com
SUMMARY:Parker Square Car & Truck Show
DESCRIPTION:Parker Square Car & Truck Show\nWe’re Back! Full class show with 26 great classes and 7 Best of show awards.\nRegistration from 11:00 AM to 1:00 PM and entry fee is $15.00. Dash Plaques to the first 50 entries. This is a great venue\, with parking all around the gazebo in park like setting.\nFor more info\, call Ray at 940-367-1798 or email me at Ray@Timemachinecarshows.com \nCheck out their website at: http://www.timemachinecarshows.com/ \nAdditionally\, Yellow Rose will be serving beer and burgers inside the restaurant. \n[Thanks for the write-up\, Ray!]
URL:https://yellowrosesteakhouse.com/event/parker-square-car-truck-show/
LOCATION:Yellow Rose Steak & Chop House\, 890 Parker Sq\, Flower Mound\, TX\, 75028\, United States
ATTACH;FMTTYPE=image/jpeg:https://yellowrosesteakhouse.com/wp-content/uploads/2017/07/Car-Show-Flyer.jpg
END:VEVENT
BEGIN:VEVENT
DTSTART;TZID=America/Chicago:20170719T190000
DTEND;TZID=America/Chicago:20170719T200000
DTSTAMP:20260423T055546
CREATED:20170127T174242Z
LAST-MODIFIED:20170624T023940Z
UID:7505-1500490800-1500494400@yellowrosesteakhouse.com
SUMMARY:Whiskey Wednesday Club
DESCRIPTION:TBD \nThe current plan is for this to be a vertical Scotch tasting. Whichever Brand Ambassador we can get\, or doing it ourselves\, this will be a fun one. \nIf all else fails and we have no ambassador available\, we do have Glenlivet in-house and already prepared. \n[Vertical Tasting: a tasting in which each course/glass is of the same liquid only aged for longer and longer periods of time]
URL:https://yellowrosesteakhouse.com/event/whiskey-wednesday-club-8/
LOCATION:Yellow Rose Private Room\, 890 Parker Sq\, Flower Mound\, TX\, 75028\, United States
CATEGORIES:whiskey wednesday club,wwc
ATTACH;FMTTYPE=image/png:https://yellowrosesteakhouse.com/wp-content/uploads/2016/09/WWC-Word-Logo-temp.png
ORGANIZER;CN="Yellow Rose Events":MAILTO:events@yellowrosesteakhouse.com
END:VEVENT
BEGIN:VEVENT
DTSTART;TZID=America/Chicago:20170627T180000
DTEND;TZID=America/Chicago:20170627T200000
DTSTAMP:20260423T055546
CREATED:20170624T021724Z
LAST-MODIFIED:20170624T022811Z
UID:7891-1498586400-1498593600@yellowrosesteakhouse.com
SUMMARY:Torres Wine Tasting
DESCRIPTION:The Torres Winery was founded in 1870. The family has been growing grapes for more than 300 years. Torres believes in quality more than volume\, long term more than short term and making wines that exceed customer expectations.\nJoin us for a fun tasting with a representative showcasing Torres wines:\n– Torres 5G Garnacha\, Spain\n– Torres Ibericos Rioja\, Spain\n– Torres Las Mulas Sauvingnon Blanc\, Chile\n– Torres Pazo Das Bruxas Albarino\, Spain\n– Torres Sangre de Toro Rose\, Spain \n$30 per person\, tax and gratuity are not included. A tasting of 5 Torres wines and light appetizers will be provided. Reservations required.
URL:https://yellowrosesteakhouse.com/event/torres-wine-tasting/
LOCATION:Yellow Rose Private Room\, 890 Parker Sq\, Flower Mound\, TX\, 75028\, United States
CATEGORIES:Wine Dinner,Wine Tasting Event
ATTACH;FMTTYPE=image/jpeg:https://yellowrosesteakhouse.com/wp-content/uploads/2017/06/Torres_Wine_tasting1-e1498271257491.jpg
ORGANIZER;CN="Yellow Rose Events":MAILTO:events@yellowrosesteakhouse.com
END:VEVENT
BEGIN:VEVENT
DTSTART;TZID=America/Chicago:20170621T180000
DTEND;TZID=America/Chicago:20170621T200000
DTSTAMP:20260423T055546
CREATED:20170127T174055Z
LAST-MODIFIED:20170620T153050Z
UID:7502-1498068000-1498075200@yellowrosesteakhouse.com
SUMMARY:Whiskey Wednesday Club
DESCRIPTION:TBD \nCurrently\, this is planned to be a Jefferson’s Tasting! \n… DON’T MISS THIS ONE! \nBelow are the selections from our June 21\, 2017 meeting and tasting (in tasting order): \n\n\nJefferson’s Very Small Batch\n\n\nJefferson’s Reserve\n\n\nJefferson’s Ocean\n\n\nJefferson’s Groth\n\n\nJefferson’s Pritchard Hill\n\n\nTasting notes and information available at: http://jeffersonsbourbon.com/product_lines.php
URL:https://yellowrosesteakhouse.com/event/whiskey-wednesday-club-7/
LOCATION:Yellow Rose Private Room\, 890 Parker Sq\, Flower Mound\, TX\, 75028\, United States
CATEGORIES:whiskey wednesday club,wwc
ATTACH;FMTTYPE=image/png:https://yellowrosesteakhouse.com/wp-content/uploads/2016/09/WWC-Word-Logo-temp.png
ORGANIZER;CN="Yellow Rose Events":MAILTO:events@yellowrosesteakhouse.com
END:VEVENT
BEGIN:VEVENT
DTSTART;TZID=America/Chicago:20170517T180000
DTEND;TZID=America/Chicago:20170517T200000
DTSTAMP:20260423T055546
CREATED:20170127T173838Z
LAST-MODIFIED:20170619T184907Z
UID:7499-1495044000-1495051200@yellowrosesteakhouse.com
SUMMARY:Whiskey Wednesday Club
DESCRIPTION:A representative from Bruichladdich will be here for a tasting. He is actually a representative from Remy Cointreau. \nWe will be tasting Scotch from unpeated to peated\, starting with 1 unpeated\, 2 peated\,  and finishing with 1 heavily peated. \n\nBruichladdich ” The Classic Laddie”\nBruichladdich “Port Charlotte: Scottish Barley”\nBruichladdich “Port Charlotte: Islay Barley”\nBruichladdich “Octomore 7.1”
URL:https://yellowrosesteakhouse.com/event/whiskey-wednesday-club-6/
LOCATION:Yellow Rose Private Room\, 890 Parker Sq\, Flower Mound\, TX\, 75028\, United States
CATEGORIES:whiskey wednesday club,wwc
ATTACH;FMTTYPE=image/png:https://yellowrosesteakhouse.com/wp-content/uploads/2016/09/WWC-Word-Logo-temp.png
ORGANIZER;CN="Yellow Rose Events":MAILTO:events@yellowrosesteakhouse.com
END:VEVENT
BEGIN:VEVENT
DTSTART;VALUE=DATE:20170514
DTEND;VALUE=DATE:20170515
DTSTAMP:20260423T055546
CREATED:20170423T165951Z
LAST-MODIFIED:20170619T184721Z
UID:7748-1494720000-1494806399@yellowrosesteakhouse.com
SUMMARY:Mother's Day 2017!
DESCRIPTION:Mother’s Day!\nReservations strongly recommended for May 6th\, 7th\, 8th.\nWe will be open on Mother’s Day\, Sunday from 12PM to 9 PM.\nOur Regular Menu will not be available on Sunday\, May 8th. Below is our prix fixe menu for Mother’s day.\nSee event details and the full menu here
URL:https://yellowrosesteakhouse.com/event/mothers-day-2017/
LOCATION:Yellow Rose Steak & Chop House\, 890 Parker Sq\, Flower Mound\, TX\, 75028\, United States
CATEGORIES:Holiday,Set Menu Events,Mother's Day
ORGANIZER;CN="Yellow Rose Events":MAILTO:events@yellowrosesteakhouse.com
END:VEVENT
BEGIN:VEVENT
DTSTART;TZID=America/Chicago:20170419T180000
DTEND;TZID=America/Chicago:20170419T200000
DTSTAMP:20260423T055546
CREATED:20170127T165011Z
LAST-MODIFIED:20170418T203057Z
UID:7488-1492624800-1492632000@yellowrosesteakhouse.com
SUMMARY:Whiskey Wednesday Club
DESCRIPTION:The current scheduled event is with a representative from: \n High West\nThey were are located in Utah and were bought in 2016 by the powerhouse spirits company\, Constellation Brands Inc. CBI also owns Ruffino wines\, Kim Crawford wines\, and many others\, as well as recently buying Grupo Modelo–the beer from Mexico. \nWe will have 6 of their products at the tasting\, including the Rendezvous Rye and Campfire\, as well as the rare Bourye and the ultra rare whiskey collectors’ prize: “A Midwinter Night’s Dram”. \n\nApril 2017 Agenda\n\nCurrent Agenda:\n6:00: Mingle at the Bar\n6:15: Light meal/snack\n6:30: Begin \n\nDiscuss old business\nTaste some whiskey\, of course!\n\nHigh West!\n\n\nIdeas for events we’d like to hold in the future\n\n\nNew Business & Planned Future Events\n\n\n\nHigh West Whiskeys at the Yellow Rose Steak & Chop House
URL:https://yellowrosesteakhouse.com/event/whiskey-wednesday-club-4/
LOCATION:Yellow Rose Private Room\, 890 Parker Sq\, Flower Mound\, TX\, 75028\, United States
CATEGORIES:whiskey wednesday club,wwc
ATTACH;FMTTYPE=image/png:https://yellowrosesteakhouse.com/wp-content/uploads/2016/09/WWC-Word-Logo-temp.png
ORGANIZER;CN="Yellow Rose Events":MAILTO:events@yellowrosesteakhouse.com
END:VEVENT
BEGIN:VEVENT
DTSTART;TZID=America/Chicago:20170406T180000
DTEND;TZID=America/Chicago:20170406T200000
DTSTAMP:20260423T055546
CREATED:20170309T153515Z
LAST-MODIFIED:20170619T184827Z
UID:7650-1491501600-1491508800@yellowrosesteakhouse.com
SUMMARY:Coppola Director's Cut Wine Dinner
DESCRIPTION:A representative will be on-hand from the Francis Ford Coppola Winery to tell us about their new line of Director’s Cut wines. \nOur dinner will feature 3 courses paired with these newly released wines \, including: Jaws Chardonnay\, King Kong Cabernet Sauvignon\, and Wizard of Oz Merlot. \n$60 per person\, dinner and wine included. $25 non-refundable deposit required to reserve your seat.\nLimited space available. Make your reservation now by calling (972) 899-9820 \n\nCoppola Director’s Cut Dinner Menu\n\n \n\n\n 
URL:https://yellowrosesteakhouse.com/event/coppola-directors-cut-wine-dinner/
LOCATION:Yellow Rose Private Room\, 890 Parker Sq\, Flower Mound\, TX\, 75028\, United States
CATEGORIES:Set Menu Events,Wine Dinner
ATTACH;FMTTYPE=image/jpeg:https://yellowrosesteakhouse.com/wp-content/uploads/2017/03/Coppola-Wine-Poster.jpg
ORGANIZER;CN="Yellow Rose Events":MAILTO:events@yellowrosesteakhouse.com
END:VEVENT
BEGIN:VEVENT
DTSTART;TZID=America/Chicago:20170315T180000
DTEND;TZID=America/Chicago:20170315T200000
DTSTAMP:20260423T055546
CREATED:20170127T164858Z
LAST-MODIFIED:20170619T184806Z
UID:7486-1489600800-1489608000@yellowrosesteakhouse.com
SUMMARY:Whiskey Wednesday Club
DESCRIPTION:We are featuring Irish whiskeys to celebrate St. Patrick’s Day! \nThis will be not exactly be a vertical tasting\, as these are aged and blended differently. \nA small snack is included! \nWhiskey Line Up: \n\n– Tullamore Dew Original\n– 12 yr Special Reserve\n– 15 yr Trilogy\n– 18 yr Single Malt\n– Phoenix Limited Edition \nMore info on the Tullamore Dew range of products can be found here. \nSee the email that goes out the week before the event for news\, updates\, and the club agenda. \n  \nNot on the email list? Join here: \nWhoops\, you're not connected to Mailchimp. You need to enter a valid Mailchimp API key.
URL:https://yellowrosesteakhouse.com/event/whiskey-wednesday-club-3/
LOCATION:Yellow Rose Private Room\, 890 Parker Sq\, Flower Mound\, TX\, 75028\, United States
CATEGORIES:whiskey wednesday club,wwc
ATTACH;FMTTYPE=image/png:https://yellowrosesteakhouse.com/wp-content/uploads/2016/09/WWC-Word-Logo-temp.png
ORGANIZER;CN="Daniel":MAILTO:danny@yellowrosesteakhouse.com
END:VEVENT
BEGIN:VEVENT
DTSTART;TZID=America/Chicago:20170215T180000
DTEND;TZID=America/Chicago:20170215T180000
DTSTAMP:20260423T055546
CREATED:20170127T163406Z
LAST-MODIFIED:20170217T171104Z
UID:7480-1487181600-1487181600@yellowrosesteakhouse.com
SUMMARY:Whiskey Wednesday Club
DESCRIPTION:Agenda not set. \nTastings: Whiskey styles across the US
URL:https://yellowrosesteakhouse.com/event/whiskey-wednesday-club/
LOCATION:Yellow Rose Private Room\, 890 Parker Sq\, Flower Mound\, TX\, 75028\, United States
CATEGORIES:whiskey wednesday club
ATTACH;FMTTYPE=image/png:https://yellowrosesteakhouse.com/wp-content/uploads/2016/09/WWC-Logo-temp.png
ORGANIZER;CN="Daniel":MAILTO:danny@yellowrosesteakhouse.com
END:VEVENT
BEGIN:VEVENT
DTSTART;VALUE=DATE:20170214
DTEND;VALUE=DATE:20170215
DTSTAMP:20260423T055546
CREATED:20170127T163857Z
LAST-MODIFIED:20170127T163857Z
UID:7482-1487030400-1487116799@yellowrosesteakhouse.com
SUMMARY:Valentine's Day
DESCRIPTION:Valentine’s Day will include a set menu only! \nDetails are available at this link: http://yellowrosesteakhouse.com/events/ \n 
URL:https://yellowrosesteakhouse.com/event/valentines-day/
LOCATION:Yellow Rose Steak & Chop House\, 890 Parker Sq\, Flower Mound\, TX\, 75028\, United States
CATEGORIES:Set Menu Events,Holiday,Valentine's Day
END:VEVENT
BEGIN:VEVENT
DTSTART;TZID=America/Chicago:20170125T180000
DTEND;TZID=America/Chicago:20170125T200000
DTSTAMP:20260423T055546
CREATED:20170127T164206Z
LAST-MODIFIED:20170127T164728Z
UID:7484-1485367200-1485374400@yellowrosesteakhouse.com
SUMMARY:Whiskey Wednesday Club
DESCRIPTION:Tasting some scotch and a few other random whiskeys\nDiscussing schedule of events\n\n3rd Wednesday of each month\n\n\nDiscussing future plans\nEstablishing memberships and discussing ideas
URL:https://yellowrosesteakhouse.com/event/whiskey-wednesday-club-2/
LOCATION:Yellow Rose Steak & Chop House\, 890 Parker Sq\, Flower Mound\, TX\, 75028\, United States
CATEGORIES:whiskey wednesday club,wwc
END:VEVENT
END:VCALENDAR