BEGIN:VCALENDAR
VERSION:2.0
PRODID:-//Yellow Rose Steak &amp; Chop House - ECPv6.15.20//NONSGML v1.0//EN
CALSCALE:GREGORIAN
METHOD:PUBLISH
X-ORIGINAL-URL:https://yellowrosesteakhouse.com
X-WR-CALDESC:Events for Yellow Rose Steak &amp; Chop House
REFRESH-INTERVAL;VALUE=DURATION:PT1H
X-Robots-Tag:noindex
X-PUBLISHED-TTL:PT1H
BEGIN:VTIMEZONE
TZID:America/Chicago
BEGIN:DAYLIGHT
TZOFFSETFROM:-0600
TZOFFSETTO:-0500
TZNAME:CDT
DTSTART:20160313T080000
END:DAYLIGHT
BEGIN:STANDARD
TZOFFSETFROM:-0500
TZOFFSETTO:-0600
TZNAME:CST
DTSTART:20161106T070000
END:STANDARD
BEGIN:DAYLIGHT
TZOFFSETFROM:-0600
TZOFFSETTO:-0500
TZNAME:CDT
DTSTART:20170312T080000
END:DAYLIGHT
BEGIN:STANDARD
TZOFFSETFROM:-0500
TZOFFSETTO:-0600
TZNAME:CST
DTSTART:20171105T070000
END:STANDARD
BEGIN:DAYLIGHT
TZOFFSETFROM:-0600
TZOFFSETTO:-0500
TZNAME:CDT
DTSTART:20180311T080000
END:DAYLIGHT
BEGIN:STANDARD
TZOFFSETFROM:-0500
TZOFFSETTO:-0600
TZNAME:CST
DTSTART:20181104T070000
END:STANDARD
BEGIN:DAYLIGHT
TZOFFSETFROM:-0600
TZOFFSETTO:-0500
TZNAME:CDT
DTSTART:20190310T080000
END:DAYLIGHT
BEGIN:STANDARD
TZOFFSETFROM:-0500
TZOFFSETTO:-0600
TZNAME:CST
DTSTART:20191103T070000
END:STANDARD
END:VTIMEZONE
BEGIN:VEVENT
DTSTART;TZID=America/Chicago:20181127T180000
DTEND;TZID=America/Chicago:20181127T200000
DTSTAMP:20260425T120615
CREATED:20180501T131816Z
LAST-MODIFIED:20180907T164430Z
UID:9286-1543341600-1543348800@yellowrosesteakhouse.com
SUMMARY:Yellow Rose Monthly Wine Tasting Event
DESCRIPTION:Join us on Tuesday\, November 27th\, at 6pm in our Private Room for another fun night as we explorer some wine! \n$35 per person\, tax and gratuity not included. Comes with a sample of 4 to 5 wines\, and snack plate! \nTasting portfolio: \n\nTBD\n\nReservations required. Limited seating available. First come first serve if not paid in advance. $35 per person not including tax and gratuity.\nCall (972) 899-9820 or make your reservation below. \nSo… who are you going to bring with you this time?
URL:https://yellowrosesteakhouse.com/event/yr-wine-club-11-18/
LOCATION:Yellow Rose Private Room\, 890 Parker Sq\, Flower Mound\, TX\, 75028\, United States
CATEGORIES:Wine Dinner,Wine Tasting Event
ATTACH;FMTTYPE=image/png:https://yellowrosesteakhouse.com/wp-content/uploads/2018/05/Yellow-RoseWine-Tasting-Event.png
ORGANIZER;CN="Yellow Rose Events":MAILTO:events@yellowrosesteakhouse.com
END:VEVENT
BEGIN:VEVENT
DTSTART;TZID=America/Chicago:20181030T180000
DTEND;TZID=America/Chicago:20181030T200000
DTSTAMP:20260425T120615
CREATED:20180501T131816Z
LAST-MODIFIED:20180809T172311Z
UID:9156-1540922400-1540929600@yellowrosesteakhouse.com
SUMMARY:Yellow Rose Monthly Wine Tasting Event
DESCRIPTION:Join us on Tuesday\, October 30th\, at 6pm in our Private Room for another fun night as we explorer some wine! \n$35 per person\, tax and gratuity not included. Comes with a sample of 4 to 5 wines\, and snack plate! \nTasting portfolio: \n\nTBD\n\nReservations required. Limited seating available. First come first serve if not paid in advance. $35 per person not including tax and gratuity.\nCall (972) 899-9820 or make your reservation below. \nSo… who are you going to bring with you this time?
URL:https://yellowrosesteakhouse.com/event/yr-wine-club-09-18-2/
LOCATION:Yellow Rose Private Room\, 890 Parker Sq\, Flower Mound\, TX\, 75028\, United States
CATEGORIES:Wine Dinner,Wine Tasting Event
ATTACH;FMTTYPE=image/png:https://yellowrosesteakhouse.com/wp-content/uploads/2018/05/Yellow-RoseWine-Tasting-Event.png
ORGANIZER;CN="Yellow Rose Events":MAILTO:events@yellowrosesteakhouse.com
END:VEVENT
BEGIN:VEVENT
DTSTART;TZID=America/Chicago:20180925T180000
DTEND;TZID=America/Chicago:20180925T200000
DTSTAMP:20260425T120615
CREATED:20180501T131816Z
LAST-MODIFIED:20180907T142326Z
UID:9151-1537898400-1537905600@yellowrosesteakhouse.com
SUMMARY:September Wine Tasting Event
DESCRIPTION:Join us on Tuesday\, September 25th\, at 6pm in our Private Room for another fun night as we explorer some wine! \nFeature:\nWe will do a tour de France with different varietals from the different regions from whence they are popular.\n$40 per person\, tax and gratuity not included. Comes with a sample of 4 to 5 wines\, and snack plate! \nTasting portfolio:\nChateau Bonnet Blanc\, Entre Deux Mers (White Blend\, mainly Sauv Blanc/Semillon) \nFleurs de Prairie Rose\, Cotes de Provence (Rose) \nCave de Lugny La Cote Blanche\, Macon-Villages (Chardonnay) \nGeorges DeBoeuf Beaujolais-Villages (Beaujolais) \nChateau Bonnet Rouge (Bordeaux- 50% Cab\, 50% Merlot) \n  \n$35 per person in advance\n$40 per person at the door\nnot including tax and gratuity. \nLimited seating available. First come first serve if not paid in advance.\nCall (972) 899-9820 or make your reservation below. \nThe only question is: Who are you going to bring with you this time?
URL:https://yellowrosesteakhouse.com/event/yr-wine-club-09-18/
LOCATION:Yellow Rose Private Room\, 890 Parker Sq\, Flower Mound\, TX\, 75028\, United States
CATEGORIES:Wine Dinner,Wine Tasting Event
ATTACH;FMTTYPE=image/png:https://yellowrosesteakhouse.com/wp-content/uploads/2018/05/Yellow-RoseWine-Tasting-Event.png
ORGANIZER;CN="Yellow Rose Events":MAILTO:events@yellowrosesteakhouse.com
END:VEVENT
BEGIN:VEVENT
DTSTART;TZID=America/Chicago:20180828T180000
DTEND;TZID=America/Chicago:20180828T200000
DTSTAMP:20260425T120615
CREATED:20180501T131816Z
LAST-MODIFIED:20180820T193714Z
UID:9143-1535479200-1535486400@yellowrosesteakhouse.com
SUMMARY:August Wine Tasting Event
DESCRIPTION:Join us for another fun night as we explorer some wine! \nIncludes a sample of 4 wines\, and a nosh! \nTasting portfolio: \n\nConundrum White Blend – Wagner family winemakers (Caymus)\nRustridge Chardonnay – very small but excellent label from Napa Valley\, California\nVeladora Sauvignon Blanc – highly rated Napa Valley wine from Orin Swift with intense citrus\, grass and honeysuckle flavors\nCooper & Thief Red Blend – California red blend\, aged in bourbon barrels for 3 months – perfect dessert wine to finish our tasting!\n\nReservations required. Limited seating available. First come first serve; if not paid in advance. \nEARLY BIRD DISCOUNT – Buy your tickets before August 24th for only $35! \nCall (972) 899-9820 or make your reservation below. \nSo… who are you going to bring with you this time?
URL:https://yellowrosesteakhouse.com/event/yr-wine-club-08-18/
LOCATION:Yellow Rose Private Room\, 890 Parker Sq\, Flower Mound\, TX\, 75028\, United States
CATEGORIES:Wine Dinner,Wine Tasting Event
ATTACH;FMTTYPE=image/png:https://yellowrosesteakhouse.com/wp-content/uploads/2018/05/Yellow-RoseWine-Tasting-Event.png
ORGANIZER;CN="Yellow Rose Events":MAILTO:events@yellowrosesteakhouse.com
END:VEVENT
BEGIN:VEVENT
DTSTART;TZID=America/Chicago:20180626T180000
DTEND;TZID=America/Chicago:20180626T200000
DTSTAMP:20260425T120615
CREATED:20180501T131816Z
LAST-MODIFIED:20180621T184658Z
UID:9012-1530036000-1530043200@yellowrosesteakhouse.com
SUMMARY:June Wine Tasting: California
DESCRIPTION:Join us on Tuesday\, June 26th\, at 6pm in our Private Room for another fun night as we explorer some wines from California! \n$35 per person\, tax and gratuity not included. Comes with a small taste of 4 California wines\, and snack plate! \nTasting portfolio: \n\nGloria Ferrer Brut Sparkling\nLaguna Chardonnay (Russian River)\nStorypoint Pinot Noir\nBeaulieu Vineyards Napa Cabernet Sauvignon\n\nReservations required. Limited seating available. First come first serve if not paid in advance. $35 per person not including tax and gratuity.\nCall (972) 899-9820 or make your reservation below. \nSo… who are you going to bring with you this time?
URL:https://yellowrosesteakhouse.com/event/yr-wine-club-06-18/
LOCATION:Yellow Rose Private Room\, 890 Parker Sq\, Flower Mound\, TX\, 75028\, United States
CATEGORIES:Wine Dinner,Wine Tasting Event
ATTACH;FMTTYPE=image/jpeg:https://yellowrosesteakhouse.com/wp-content/uploads/2018/05/CA-wine-tasting-20180613.jpg
ORGANIZER;CN="Yellow Rose Events":MAILTO:events@yellowrosesteakhouse.com
END:VEVENT
BEGIN:VEVENT
DTSTART;TZID=America/Chicago:20180529T183000
DTEND;TZID=America/Chicago:20180529T210000
DTSTAMP:20260425T120615
CREATED:20180501T131816Z
LAST-MODIFIED:20180508T191645Z
UID:8833-1527618600-1527627600@yellowrosesteakhouse.com
SUMMARY:South American Wine Tasting
DESCRIPTION:Join us on Tuesday\, May 29th\, at 6pm in our Private Room for another fun night as we explorer some wines from South America! \n$35 per person\, tax and gratuity not included. Comes with a small taste of 5 South American wines\, and snack plate! \nTasting portfolio: \n\n2016 Trivento Armando Sur Torrontes\, Argentina\n2016 Cousino-Macul Chardonnay\, Chile\n2015 Tarapaca Gran Reserva Carmenere\, Chile\n2015 Catena Vista Flores Malbec\, Argentina\n2015 Dama de Plata Cabernet\, Argentina\n\nReservations required. Limited seating available. First come first serve if not paid in advance. $35 per person not including tax and gratuity.\nCall (972) 899-9820 or make your reservation below. \nAnd who are you going to bring with you this time?
URL:https://yellowrosesteakhouse.com/event/yr-wine-club-05-18/
LOCATION:Yellow Rose Private Room\, 890 Parker Sq\, Flower Mound\, TX\, 75028\, United States
CATEGORIES:Wine Dinner,Wine Tasting Event
ATTACH;FMTTYPE=image/jpeg:https://yellowrosesteakhouse.com/wp-content/uploads/2018/05/South-America-May-Tasting-2018.jpg
ORGANIZER;CN="Yellow Rose Events":MAILTO:events@yellowrosesteakhouse.com
END:VEVENT
BEGIN:VEVENT
DTSTART;TZID=America/Chicago:20170926T180000
DTEND;TZID=America/Chicago:20170926T193000
DTSTAMP:20260425T120615
CREATED:20170807T154437Z
LAST-MODIFIED:20170922T155743Z
UID:8205-1506448800-1506454200@yellowrosesteakhouse.com
SUMMARY:California Wine Tasting
DESCRIPTION:Join us on Tuesday\, September 26th\, at 6pm in our Private Room for another fun night as we explorer some wines from California! It is California Wine Month after all! $45 per person\, tax and gratuity not included. Comes with a taste of 4 Californian wines\, and dinner plate! \nTasting portfolio: \n\nSimi Cabernet Sauvingnon\, Alexander Valley\, Sonoma County\nFranciscan Chardonnay\, Napa Valley\n7 Moons\, Red Blend\nCooper & Thief\, Red Blend\, Aged 3 months in bourbon whiskey barrels to 17%ABV\n\nReservations required. Limited seating available. First come first serve if not paid in advance. $45 per person not including tax and gratuity.\nCall (972) 899-9820 or make your reservation below. \nAnd who are you going to bring with you this time?
URL:https://yellowrosesteakhouse.com/event/california-wine-tasting-9-2017/
LOCATION:Yellow Rose Private Room\, 890 Parker Sq\, Flower Mound\, TX\, 75028\, United States
CATEGORIES:Wine Dinner,Wine Tasting Event
ATTACH;FMTTYPE=image/jpeg:https://yellowrosesteakhouse.com/wp-content/uploads/2017/08/September-2017-CaliforniaConstellation.jpg
ORGANIZER;CN="Yellow Rose Events":MAILTO:events@yellowrosesteakhouse.com
END:VEVENT
BEGIN:VEVENT
DTSTART;TZID=America/Chicago:20170829T183000
DTEND;TZID=America/Chicago:20170829T203000
DTSTAMP:20260425T120615
CREATED:20170807T154437Z
LAST-MODIFIED:20170807T154654Z
UID:8048-1504031400-1504038600@yellowrosesteakhouse.com
SUMMARY:An Italian Wine Tasting
DESCRIPTION:We’re happy to announce our next wine tasting event on Tuesday\, August 29th\, at 6.30 pm! Join us for a great night while tasting some delicious Italian wines\, from one of our favorite boutique distributors\, accompanied by a small snack: \n\nMontAsolo\, Pinot Grigio\nPoggio Alla Luna\, Chianti\nMartin Ulisse\, Montepulciano d’Abruzzo\nFranco Serra\, Barolo\n\nReservations required. Limited seating available. First come first serve if not paid in advance. $45 per person not including tax and gratuity.\nCall (972) 899-9820 or make your reservation below.
URL:https://yellowrosesteakhouse.com/event/an-italian-wine-tasting/
LOCATION:Yellow Rose Private Room\, 890 Parker Sq\, Flower Mound\, TX\, 75028\, United States
CATEGORIES:Wine Dinner,Wine Tasting Event
ATTACH;FMTTYPE=image/jpeg:https://yellowrosesteakhouse.com/wp-content/uploads/2017/08/Serendipity-Italian-Tasting.jpg
ORGANIZER;CN="Yellow Rose Events":MAILTO:events@yellowrosesteakhouse.com
END:VEVENT
BEGIN:VEVENT
DTSTART;TZID=America/Chicago:20170627T180000
DTEND;TZID=America/Chicago:20170627T200000
DTSTAMP:20260425T120615
CREATED:20170624T021724Z
LAST-MODIFIED:20170624T022811Z
UID:7891-1498586400-1498593600@yellowrosesteakhouse.com
SUMMARY:Torres Wine Tasting
DESCRIPTION:The Torres Winery was founded in 1870. The family has been growing grapes for more than 300 years. Torres believes in quality more than volume\, long term more than short term and making wines that exceed customer expectations.\nJoin us for a fun tasting with a representative showcasing Torres wines:\n– Torres 5G Garnacha\, Spain\n– Torres Ibericos Rioja\, Spain\n– Torres Las Mulas Sauvingnon Blanc\, Chile\n– Torres Pazo Das Bruxas Albarino\, Spain\n– Torres Sangre de Toro Rose\, Spain \n$30 per person\, tax and gratuity are not included. A tasting of 5 Torres wines and light appetizers will be provided. Reservations required.
URL:https://yellowrosesteakhouse.com/event/torres-wine-tasting/
LOCATION:Yellow Rose Private Room\, 890 Parker Sq\, Flower Mound\, TX\, 75028\, United States
CATEGORIES:Wine Dinner,Wine Tasting Event
ATTACH;FMTTYPE=image/jpeg:https://yellowrosesteakhouse.com/wp-content/uploads/2017/06/Torres_Wine_tasting1-e1498271257491.jpg
ORGANIZER;CN="Yellow Rose Events":MAILTO:events@yellowrosesteakhouse.com
END:VEVENT
BEGIN:VEVENT
DTSTART;TZID=America/Chicago:20170406T180000
DTEND;TZID=America/Chicago:20170406T200000
DTSTAMP:20260425T120615
CREATED:20170309T153515Z
LAST-MODIFIED:20170619T184827Z
UID:7650-1491501600-1491508800@yellowrosesteakhouse.com
SUMMARY:Coppola Director's Cut Wine Dinner
DESCRIPTION:A representative will be on-hand from the Francis Ford Coppola Winery to tell us about their new line of Director’s Cut wines. \nOur dinner will feature 3 courses paired with these newly released wines \, including: Jaws Chardonnay\, King Kong Cabernet Sauvignon\, and Wizard of Oz Merlot. \n$60 per person\, dinner and wine included. $25 non-refundable deposit required to reserve your seat.\nLimited space available. Make your reservation now by calling (972) 899-9820 \n\nCoppola Director’s Cut Dinner Menu\n\n \n\n\n 
URL:https://yellowrosesteakhouse.com/event/coppola-directors-cut-wine-dinner/
LOCATION:Yellow Rose Private Room\, 890 Parker Sq\, Flower Mound\, TX\, 75028\, United States
CATEGORIES:Set Menu Events,Wine Dinner
ATTACH;FMTTYPE=image/jpeg:https://yellowrosesteakhouse.com/wp-content/uploads/2017/03/Coppola-Wine-Poster.jpg
ORGANIZER;CN="Yellow Rose Events":MAILTO:events@yellowrosesteakhouse.com
END:VEVENT
END:VCALENDAR