BEGIN:VCALENDAR
VERSION:2.0
PRODID:-//Yellow Rose Steak &amp; Chop House - ECPv6.15.20//NONSGML v1.0//EN
CALSCALE:GREGORIAN
METHOD:PUBLISH
X-WR-CALNAME:Yellow Rose Steak &amp; Chop House
X-ORIGINAL-URL:https://yellowrosesteakhouse.com
X-WR-CALDESC:Events for Yellow Rose Steak &amp; Chop House
REFRESH-INTERVAL;VALUE=DURATION:PT1H
X-Robots-Tag:noindex
X-PUBLISHED-TTL:PT1H
BEGIN:VTIMEZONE
TZID:America/Chicago
BEGIN:DAYLIGHT
TZOFFSETFROM:-0600
TZOFFSETTO:-0500
TZNAME:CDT
DTSTART:20160313T080000
END:DAYLIGHT
BEGIN:STANDARD
TZOFFSETFROM:-0500
TZOFFSETTO:-0600
TZNAME:CST
DTSTART:20161106T070000
END:STANDARD
BEGIN:DAYLIGHT
TZOFFSETFROM:-0600
TZOFFSETTO:-0500
TZNAME:CDT
DTSTART:20170312T080000
END:DAYLIGHT
BEGIN:STANDARD
TZOFFSETFROM:-0500
TZOFFSETTO:-0600
TZNAME:CST
DTSTART:20171105T070000
END:STANDARD
BEGIN:DAYLIGHT
TZOFFSETFROM:-0600
TZOFFSETTO:-0500
TZNAME:CDT
DTSTART:20180311T080000
END:DAYLIGHT
BEGIN:STANDARD
TZOFFSETFROM:-0500
TZOFFSETTO:-0600
TZNAME:CST
DTSTART:20181104T070000
END:STANDARD
END:VTIMEZONE
BEGIN:VEVENT
DTSTART;TZID=America/Chicago:20170517T180000
DTEND;TZID=America/Chicago:20170517T200000
DTSTAMP:20260421T202027
CREATED:20170127T173838Z
LAST-MODIFIED:20170619T184907Z
UID:7499-1495044000-1495051200@yellowrosesteakhouse.com
SUMMARY:Whiskey Wednesday Club
DESCRIPTION:A representative from Bruichladdich will be here for a tasting. He is actually a representative from Remy Cointreau. \nWe will be tasting Scotch from unpeated to peated\, starting with 1 unpeated\, 2 peated\,  and finishing with 1 heavily peated. \n\nBruichladdich ” The Classic Laddie”\nBruichladdich “Port Charlotte: Scottish Barley”\nBruichladdich “Port Charlotte: Islay Barley”\nBruichladdich “Octomore 7.1”
URL:https://yellowrosesteakhouse.com/event/whiskey-wednesday-club-6/
LOCATION:Yellow Rose Private Room\, 890 Parker Sq\, Flower Mound\, TX\, 75028\, United States
CATEGORIES:whiskey wednesday club,wwc
ATTACH;FMTTYPE=image/png:https://yellowrosesteakhouse.com/wp-content/uploads/2016/09/WWC-Word-Logo-temp.png
ORGANIZER;CN="Yellow Rose Events":MAILTO:events@yellowrosesteakhouse.com
END:VEVENT
BEGIN:VEVENT
DTSTART;TZID=America/Chicago:20170419T180000
DTEND;TZID=America/Chicago:20170419T200000
DTSTAMP:20260421T202027
CREATED:20170127T165011Z
LAST-MODIFIED:20170418T203057Z
UID:7488-1492624800-1492632000@yellowrosesteakhouse.com
SUMMARY:Whiskey Wednesday Club
DESCRIPTION:The current scheduled event is with a representative from: \n High West\nThey were are located in Utah and were bought in 2016 by the powerhouse spirits company\, Constellation Brands Inc. CBI also owns Ruffino wines\, Kim Crawford wines\, and many others\, as well as recently buying Grupo Modelo–the beer from Mexico. \nWe will have 6 of their products at the tasting\, including the Rendezvous Rye and Campfire\, as well as the rare Bourye and the ultra rare whiskey collectors’ prize: “A Midwinter Night’s Dram”. \n\nApril 2017 Agenda\n\nCurrent Agenda:\n6:00: Mingle at the Bar\n6:15: Light meal/snack\n6:30: Begin \n\nDiscuss old business\nTaste some whiskey\, of course!\n\nHigh West!\n\n\nIdeas for events we’d like to hold in the future\n\n\nNew Business & Planned Future Events\n\n\n\nHigh West Whiskeys at the Yellow Rose Steak & Chop House
URL:https://yellowrosesteakhouse.com/event/whiskey-wednesday-club-4/
LOCATION:Yellow Rose Private Room\, 890 Parker Sq\, Flower Mound\, TX\, 75028\, United States
CATEGORIES:whiskey wednesday club,wwc
ATTACH;FMTTYPE=image/png:https://yellowrosesteakhouse.com/wp-content/uploads/2016/09/WWC-Word-Logo-temp.png
ORGANIZER;CN="Yellow Rose Events":MAILTO:events@yellowrosesteakhouse.com
END:VEVENT
BEGIN:VEVENT
DTSTART;TZID=America/Chicago:20170315T180000
DTEND;TZID=America/Chicago:20170315T200000
DTSTAMP:20260421T202027
CREATED:20170127T164858Z
LAST-MODIFIED:20170619T184806Z
UID:7486-1489600800-1489608000@yellowrosesteakhouse.com
SUMMARY:Whiskey Wednesday Club
DESCRIPTION:We are featuring Irish whiskeys to celebrate St. Patrick’s Day! \nThis will be not exactly be a vertical tasting\, as these are aged and blended differently. \nA small snack is included! \nWhiskey Line Up: \n\n– Tullamore Dew Original\n– 12 yr Special Reserve\n– 15 yr Trilogy\n– 18 yr Single Malt\n– Phoenix Limited Edition \nMore info on the Tullamore Dew range of products can be found here. \nSee the email that goes out the week before the event for news\, updates\, and the club agenda. \n  \nNot on the email list? Join here: \nWhoops\, you're not connected to Mailchimp. You need to enter a valid Mailchimp API key.
URL:https://yellowrosesteakhouse.com/event/whiskey-wednesday-club-3/
LOCATION:Yellow Rose Private Room\, 890 Parker Sq\, Flower Mound\, TX\, 75028\, United States
CATEGORIES:whiskey wednesday club,wwc
ATTACH;FMTTYPE=image/png:https://yellowrosesteakhouse.com/wp-content/uploads/2016/09/WWC-Word-Logo-temp.png
ORGANIZER;CN="Daniel":MAILTO:danny@yellowrosesteakhouse.com
END:VEVENT
BEGIN:VEVENT
DTSTART;TZID=America/Chicago:20170215T180000
DTEND;TZID=America/Chicago:20170215T180000
DTSTAMP:20260421T202027
CREATED:20170127T163406Z
LAST-MODIFIED:20170217T171104Z
UID:7480-1487181600-1487181600@yellowrosesteakhouse.com
SUMMARY:Whiskey Wednesday Club
DESCRIPTION:Agenda not set. \nTastings: Whiskey styles across the US
URL:https://yellowrosesteakhouse.com/event/whiskey-wednesday-club/
LOCATION:Yellow Rose Private Room\, 890 Parker Sq\, Flower Mound\, TX\, 75028\, United States
CATEGORIES:whiskey wednesday club
ATTACH;FMTTYPE=image/png:https://yellowrosesteakhouse.com/wp-content/uploads/2016/09/WWC-Logo-temp.png
ORGANIZER;CN="Daniel":MAILTO:danny@yellowrosesteakhouse.com
END:VEVENT
BEGIN:VEVENT
DTSTART;TZID=America/Chicago:20170125T180000
DTEND;TZID=America/Chicago:20170125T200000
DTSTAMP:20260421T202027
CREATED:20170127T164206Z
LAST-MODIFIED:20170127T164728Z
UID:7484-1485367200-1485374400@yellowrosesteakhouse.com
SUMMARY:Whiskey Wednesday Club
DESCRIPTION:Tasting some scotch and a few other random whiskeys\nDiscussing schedule of events\n\n3rd Wednesday of each month\n\n\nDiscussing future plans\nEstablishing memberships and discussing ideas
URL:https://yellowrosesteakhouse.com/event/whiskey-wednesday-club-2/
LOCATION:Yellow Rose Steak & Chop House\, 890 Parker Sq\, Flower Mound\, TX\, 75028\, United States
CATEGORIES:whiskey wednesday club,wwc
END:VEVENT
END:VCALENDAR