BEGIN:VCALENDAR
VERSION:2.0
PRODID:-//Yellow Rose Steak &amp; Chop House - ECPv6.15.20//NONSGML v1.0//EN
CALSCALE:GREGORIAN
METHOD:PUBLISH
X-WR-CALNAME:Yellow Rose Steak &amp; Chop House
X-ORIGINAL-URL:https://yellowrosesteakhouse.com
X-WR-CALDESC:Events for Yellow Rose Steak &amp; Chop House
REFRESH-INTERVAL;VALUE=DURATION:PT1H
X-Robots-Tag:noindex
X-PUBLISHED-TTL:PT1H
BEGIN:VTIMEZONE
TZID:America/Chicago
BEGIN:DAYLIGHT
TZOFFSETFROM:-0600
TZOFFSETTO:-0500
TZNAME:CDT
DTSTART:20180311T080000
END:DAYLIGHT
BEGIN:STANDARD
TZOFFSETFROM:-0500
TZOFFSETTO:-0600
TZNAME:CST
DTSTART:20181104T070000
END:STANDARD
BEGIN:DAYLIGHT
TZOFFSETFROM:-0600
TZOFFSETTO:-0500
TZNAME:CDT
DTSTART:20190310T080000
END:DAYLIGHT
BEGIN:STANDARD
TZOFFSETFROM:-0500
TZOFFSETTO:-0600
TZNAME:CST
DTSTART:20191103T070000
END:STANDARD
BEGIN:DAYLIGHT
TZOFFSETFROM:-0600
TZOFFSETTO:-0500
TZNAME:CDT
DTSTART:20200308T080000
END:DAYLIGHT
BEGIN:STANDARD
TZOFFSETFROM:-0500
TZOFFSETTO:-0600
TZNAME:CST
DTSTART:20201101T070000
END:STANDARD
BEGIN:DAYLIGHT
TZOFFSETFROM:-0600
TZOFFSETTO:-0500
TZNAME:CDT
DTSTART:20210314T080000
END:DAYLIGHT
BEGIN:STANDARD
TZOFFSETFROM:-0500
TZOFFSETTO:-0600
TZNAME:CST
DTSTART:20211107T070000
END:STANDARD
END:VTIMEZONE
BEGIN:VEVENT
DTSTART;VALUE=DATE:20200501
DTEND;VALUE=DATE:20200701
DTSTAMP:20260425T100215
CREATED:20200505T020243Z
LAST-MODIFIED:20200505T022006Z
UID:15481-1588291200-1593561599@yellowrosesteakhouse.com
SUMMARY:Anniversary Celebration
DESCRIPTION:Anniversary and Freedom Celebration\nDue to the release of the people from their homes\, and our missed 12th year Anniversary\, …\nWe are having a celebration sale!\n20% off all liquor\n(including our rare whiskey collection)!\n50% off all beer!\n50% off all wine!
URL:https://yellowrosesteakhouse.com/event/freedom-celebration/
LOCATION:Yellow Rose Steak & Chop House\, 890 Parker Sq\, Flower Mound\, TX\, 75028\, United States
CATEGORIES:whiskey wednesday club,wwc,Holiday,Pop-Up Tasting,Charity
ATTACH;FMTTYPE=image/jpeg:https://yellowrosesteakhouse.com/wp-content/uploads/2020/05/YellowRose_Cocktail_Sale_2020.jpg
ORGANIZER;CN="Yellow Rose Events":MAILTO:events@yellowrosesteakhouse.com
END:VEVENT
BEGIN:VEVENT
DTSTART;TZID=America/Chicago:20190130T180000
DTEND;TZID=America/Chicago:20190130T200000
DTSTAMP:20260425T100215
CREATED:20190114T160748Z
LAST-MODIFIED:20190114T160748Z
UID:9676-1548871200-1548878400@yellowrosesteakhouse.com
SUMMARY:Ben Milam Pop Up Tasting
DESCRIPTION:A wonderful opportunity to try something new: \nBen Milam Single Barrel Bourbon \n and  \nSmall Batch Rye  \n– and hear the story firsthand from Founder Marsha Milam herself.  \nDon’t miss it!
URL:https://yellowrosesteakhouse.com/event/ben-milam_01-19/
LOCATION:Yellow Rose Steak & Chop House\, 890 Parker Sq\, Flower Mound\, TX\, 75028\, United States
CATEGORIES:wwc,Pop-Up Tasting
ATTACH;FMTTYPE=image/jpeg:https://yellowrosesteakhouse.com/wp-content/uploads/2019/01/Ben-Milam-1-2019.jpg
ORGANIZER;CN="Yellow Rose Events":MAILTO:events@yellowrosesteakhouse.com
END:VEVENT
END:VCALENDAR