BEGIN:VCALENDAR
VERSION:2.0
PRODID:-//Yellow Rose Steak &amp; Chop House - ECPv6.15.20//NONSGML v1.0//EN
CALSCALE:GREGORIAN
METHOD:PUBLISH
X-ORIGINAL-URL:https://yellowrosesteakhouse.com
X-WR-CALDESC:Events for Yellow Rose Steak &amp; Chop House
REFRESH-INTERVAL;VALUE=DURATION:PT1H
X-Robots-Tag:noindex
X-PUBLISHED-TTL:PT1H
BEGIN:VTIMEZONE
TZID:America/Chicago
BEGIN:DAYLIGHT
TZOFFSETFROM:-0600
TZOFFSETTO:-0500
TZNAME:CDT
DTSTART:20160313T080000
END:DAYLIGHT
BEGIN:STANDARD
TZOFFSETFROM:-0500
TZOFFSETTO:-0600
TZNAME:CST
DTSTART:20161106T070000
END:STANDARD
BEGIN:DAYLIGHT
TZOFFSETFROM:-0600
TZOFFSETTO:-0500
TZNAME:CDT
DTSTART:20170312T080000
END:DAYLIGHT
BEGIN:STANDARD
TZOFFSETFROM:-0500
TZOFFSETTO:-0600
TZNAME:CST
DTSTART:20171105T070000
END:STANDARD
BEGIN:DAYLIGHT
TZOFFSETFROM:-0600
TZOFFSETTO:-0500
TZNAME:CDT
DTSTART:20180311T080000
END:DAYLIGHT
BEGIN:STANDARD
TZOFFSETFROM:-0500
TZOFFSETTO:-0600
TZNAME:CST
DTSTART:20181104T070000
END:STANDARD
BEGIN:DAYLIGHT
TZOFFSETFROM:-0600
TZOFFSETTO:-0500
TZNAME:CDT
DTSTART:20190310T080000
END:DAYLIGHT
BEGIN:STANDARD
TZOFFSETFROM:-0500
TZOFFSETTO:-0600
TZNAME:CST
DTSTART:20191103T070000
END:STANDARD
BEGIN:DAYLIGHT
TZOFFSETFROM:-0600
TZOFFSETTO:-0500
TZNAME:CDT
DTSTART:20200308T080000
END:DAYLIGHT
BEGIN:STANDARD
TZOFFSETFROM:-0500
TZOFFSETTO:-0600
TZNAME:CST
DTSTART:20201101T070000
END:STANDARD
END:VTIMEZONE
BEGIN:VEVENT
DTSTART;VALUE=DATE:20190512
DTEND;VALUE=DATE:20190513
DTSTAMP:20260425T145326
CREATED:20180510T180316Z
LAST-MODIFIED:20190410T163525Z
UID:9990-1557619200-1557705599@yellowrosesteakhouse.com
SUMMARY:Mother's Day
DESCRIPTION:Let us cook and clean\, so you can celebrate!\nOpen on Sunday\, May 12th\, 2019 \nServing regular dinner menu all day with an optional holiday chalkboard special. \nLimited seating available. \nMake your reservations now at: www.yellowrosesteakhouse.com or call (972) 899-9820.
URL:https://yellowrosesteakhouse.com/event/mothers-day-2019/
LOCATION:Yellow Rose Steak & Chop House\, 890 Parker Sq\, Flower Mound\, TX\, 75028\, United States
CATEGORIES:Holiday,Mother's Day
ATTACH;FMTTYPE=image/jpeg:https://yellowrosesteakhouse.com/wp-content/uploads/2018/05/Mothers-Day-Promo.jpg
ORGANIZER;CN="Yellow Rose Events":MAILTO:events@yellowrosesteakhouse.com
END:VEVENT
BEGIN:VEVENT
DTSTART;VALUE=DATE:20180513
DTEND;VALUE=DATE:20180514
DTSTAMP:20260425T145326
CREATED:20180510T180316Z
LAST-MODIFIED:20180510T180316Z
UID:8888-1526169600-1526255999@yellowrosesteakhouse.com
SUMMARY:Mother's Day
DESCRIPTION:Let us cook and clean\, so you can celebrate!\nOpen on Sunday\, May 13th\, 2018\, serving regular dinner menu all day with an optional holiday chalkboard special. Limited seating available. Make your reservations now at www.yellowrosesteakhouse.com or (972) 899-9820.
URL:https://yellowrosesteakhouse.com/event/mothers-day-2018/
CATEGORIES:Holiday,Mother's Day
ATTACH;FMTTYPE=image/jpeg:https://yellowrosesteakhouse.com/wp-content/uploads/2018/05/Mothers-Day-Promo.jpg
END:VEVENT
BEGIN:VEVENT
DTSTART;VALUE=DATE:20170514
DTEND;VALUE=DATE:20170515
DTSTAMP:20260425T145326
CREATED:20170423T165951Z
LAST-MODIFIED:20170619T184721Z
UID:7748-1494720000-1494806399@yellowrosesteakhouse.com
SUMMARY:Mother's Day 2017!
DESCRIPTION:Mother’s Day!\nReservations strongly recommended for May 6th\, 7th\, 8th.\nWe will be open on Mother’s Day\, Sunday from 12PM to 9 PM.\nOur Regular Menu will not be available on Sunday\, May 8th. Below is our prix fixe menu for Mother’s day.\nSee event details and the full menu here
URL:https://yellowrosesteakhouse.com/event/mothers-day-2017/
LOCATION:Yellow Rose Steak & Chop House\, 890 Parker Sq\, Flower Mound\, TX\, 75028\, United States
CATEGORIES:Mother's Day,Holiday,Set Menu Events
ORGANIZER;CN="Yellow Rose Events":MAILTO:events@yellowrosesteakhouse.com
END:VEVENT
END:VCALENDAR